Workbook
Name _☑: #REF!
Name _☑: #REF!
Name _☑: #REF!
Name _☑: #REF!
Name _☑: #REF!
Name _☑: #REF!
Name _☑: #REF!
Name _☑: #REF!
Name _☑: #REF!
Name _☑: #REF!
Name _☑: #REF!
Name _☑: #REF!
Name _dl1: '[1]7（適合確認2）'!$C$809:$D$809
Name _dl1: #REF!
Name _dl1: #REF!
Name _dl2: #REF!
Name _dl2: #REF!
Name _dl2: #REF!
Name _dl2: #REF!
Name _dl2: #REF!
Name _dl2: #REF!
Name い: #REF!
Name サイズ: #REF!
Name チェック: #REF!
Name チェック: #REF!
Name チェック: #REF!
Name チェック: #REF!
Name チェック: #REF!
Name チェック: #REF!
Name チェック: #REF!
Name チェック: #REF!
Name チェック: #REF!
Name チェック: #REF!
Name チェック: #REF!
Name データ: #REF!
Name データ: #REF!
Name データ: #REF!
Name テーブル: #REF!
Name テーブル: #REF!
Name 横数: #REF!
Name 下: #REF!
Name 現在枚数: #REF!
Name 交付別添: #REF!
Name 交付別添: #REF!
Name 書き込み枠: #REF!
Name 上: #REF!
Name 地域: #REF!
Name 地域: #REF!
Name 地域１: #REF!
Name 地域１: #REF!
Name 中: #REF!
Name 中々: #REF!
Name 表示段数: #REF!
Name 表示列数: #REF!
Name 余白: #REF!
Name 様式●＿辞退届: #REF!
Name 様式●＿辞退届: #REF!

Sheet 別記様式第1
A1: 別記様式第１
E2: 令和 年 月 日
A3: 一般社団法人 環境共生まちづくり協会
A4: 会長 竹中 宣雄 様
D5: （代表提案者）
D6: 提案団体名
D7: 代表者
A8: 令和８年度住宅・建築物環境対策事業費補助金交付申請書
A9: 令和8年度住宅・建築物環境対策事業に要する費用について、補助金の交付を受けたいので、令和8年度サステナブル建築物等先導事業（LCCO2評価先導型）補助金交付規程第６の規定により、関係書類を添えて下記の通り申請します。なお、当該手続きにあたっては、令和8年度サステナブル建築物等先導事業（LCCO2評価先導型）補助金交付規程を遵守します。
A10: 記
B11: １．補助事業の名称 | D11: サステナブル建築物等先導事業（LCCO2評価先導型）
C12: 部門名 （ | F12: ）
C13: プロジェクト名 （ | F13: ）
B14: ２．交付申請額 | E14: 千円（端数切り捨て）
B15: ３．交付申請額の算出方法及び事業経費の配分 （別紙１、２、３、４のとおり）
B16: ４．補助事業の概要 | D16: （別添提案申請書様式３のとおり）
B17: ５．事業完了の期日 | D17: 令和 年 月 日
B19: （申請書類）
C20: １．交付申請額の算出方法及び事業経費の配分 | F20: （ 別紙１ ）
C21: ２．交付申請額の算出方法の明細 | F21: （ 別紙２ ）
C22: ３．科目別使途明細書 | F22: （ 別紙３ ）
C23: ４．附帯事務費明細書 | F23: （ 別紙４ ）
B24: （添付資料）
C25: １．提案申請書様式３・採択通知書・適合を確認した建築士の建築士免許証 | F25: （原本写し）
C26: ２．年度別事業計画内訳書 | F26: （ 別添１ ）
C27: ３．建築士による建築物の環境効率の評価結果書 | F27: （ 別添２ ）
C28: ４．建築士による省エネルギー性能の適合確認書 | F28: （ 別添３ ）
C29: ５．建築士による提案内容への適合確認書 | F29: （ 別添４-１ ）
C30: ６．提案内容への適合確認書（マネジメント及び技術の検証の場合） | F30: （ 別添４-２ ）
C31: ７．全体事業進捗管理表 | F31: （ 別添５ ）
C32: ８．振込口座登録票 | F32: （ 別添６ ）
C33: ９．補助事業者等に関する宣誓書 | F33: （ 別添７ ）
C34: 10．交付申請に係る宣誓書 | F34: （ 別添８ ）
C35: 11．共同事業実施規約（共同事業の場合のみ） | F35: （参考様式）
C36: 12．分譲住宅に係る誓約書（建売戸建住宅，分譲共同住宅を供給する場合） | F36: （参考様式）
... C40: 16．設計図書（平面、立面図など）と先導事業内容が示された書類等 | F40: （任意様式）
C41: 17．その他必要な資料
B42: （記載上の注意）
C43: １．用紙の大きさは、日本工業規格で定めるＡ列４とし、縦位置とすること。
C44: （設計図書等はＡ３折り込みで可）

Sheet 交付別紙1
O1: 別紙１
A2: 交付申請額の算出方法及び事業経費の配分
O3: (単位：千円)
A4: 事 業 区 分 | C4: 事業費 | F4: 補助対象外事業費 | I4: 補助対象事業費 | L4: 補助率 | M4: 補助金申請額
C5: (a） | F5: (b） | I5: (c）＝（a）-（b） | M5: (c）× 補助率
A6: サステナブル建築物等先導事業
B7: 建築設計費 | C7: ( | E7: ) | F7: ( | G7: =D7-J7 -> 0 | H7: ) | I7: ( | K7: ) | L7: 0.5 | M7: ( | O7: )
G8: =D8-J8 -> 0
B9: 建設工事費 | C9: ( | E9: ) | F9: ( | G9: =D9-J9 -> 0 | H9: ) | I9: ( | K9: ) | L9: 0.5 | M9: ( | O9: )
G10: =D10-J10 -> 0
B11: マネジメントシステム整備費 | C11: ( | E11: ) | F11: ( | G11: =D11-J11 -> 0 | H11: ) | I11: ( | K11: ) | L11: 0.5 | M11: ( | O11: )
G12: =D12-J12 -> 0
B13: 技術の検証費 | C13: ( | E13: ) | F13: ( | G13: =D13-J13 -> 0 | H13: ) | I13: ( | K13: ) | L13: 0.5 | M13: ( | O13: )
G14: =D14-J14 -> 0
B15: 小 計（Ａ） | C15: ( | D15: =D7+D9+D11+D13 -> 0 | E15: ) | F15: ( | G15: =G7+G9+G11+G13 -> 0 | H15: ) | I15: ( | J15: =J7+J9+J11+J13 -> 0 | K15: ) | M15: ( | N15: =N7+N9+N11+N13 -> 0 | O15: )
D16: =D8+D10+D12+D14 -> 0 | G16: =G8+G10+G12+G14 -> 0 | J16: =J8+J10+J12+J14 -> 0 | N16: =N8+N10+N12+N14 -> 0
B17: 附帯事務費（Ａ×2.2％以内） | M17: ( | O17: )
A19: 合計 | B19: 交付申請額合計 | D19: =D16 -> 0 | G19: =G16 -> 0 | J19: =J16 -> 0 | N19: =N16+N18 -> 0
B20: （前回交付決定額） | D20: =D15 -> 0 | G20: =G15 -> 0 | J20: =J15 -> 0 | N20: =N15+N17 -> 0
B21: （変動増減） | D21: =D19-D20 -> 0 | G21: =G19-G20 -> 0 | J21: =J19-J20 -> 0 | N21: =N19-N20 -> 0
A22: （b）のうち、他の補助金が含まれている場合は以下に記入のこと。
B23: 事業名： | H23: 所管名；
A25: （注）
A26: １.変更申請の場合には、変更前の記載内容を上段（ ）書で記載すること。
A27: ２.（C）には、他の補助金を含めることはできない。
I28: プロジェクト名： | K28: =別記様式第1!D13 -> 0

Sheet 交付別紙2
N1: 別紙２
A2: 交付申請額の算出方法の明細
A5: Ａ 建築設計費
N6: (単位：千円)
A7: 補助対象棟数 | F7: 事業費 | H7: 補助対象事業費 | K7: 補助率 | L7: 補助金申請額
A8: ( | C8: 棟 | D8: ) | E8: ( | G8: ) | H8: ( | J8: ) | K8: 0.5 | L8: ( | N8: )
C9: 棟
A10: ( | C10: 戸 | D10: )
C11: 戸
A12: (注)
B13: １．変更申請の場合には、変更前の記載内容を上段（ ）書で記載すること。
B14: ２．事業費の積算内訳が記載されている見積書等を添付すること。（補助対象とならない費目については、
B15: 分かりやすく明記すること。）
A21: Ｂ 建設工事費（設備工事費を含む）
N22: (単位：千円)
A23: 補助対象棟数 | F23: 事業費 | H23: 補助対象事業費 | K23: 補助率 | L23: 補助金申請額
A24: ( | C24: 棟 | D24: ) | E24: ( | G24: ) | H24: ( | J24: ) | K24: 0.5 | L24: ( | N24: )
C25: 棟
A26: ( | C26: 戸 | D26: )
C27: 戸
A28: (注)
B29: １．変更申請の場合には、変更前の記載内容を上段（ ）書で記載すること。
B30: ２．事業費の積算内訳が記載されている見積書等を添付すること。（補助対象とならない費目については、
B31: 分かりやすく明記すること。）
H45: プロジェクト名： | I45: =別記様式第1!D13 -> 0
A47: Ｃ マネジメントシステム整備費
N48: (単位：千円)
A49: 区 分 | F49: 事業費 | H49: 補助対象事業費 | K49: 補助率 | L49: 補助金申請額
A50: 建設工事費 （ａ） | E50: ( | G50: ) | H50: ( | J50: ) | K50: 0.5 | L50: ( | N50: )
A52: 直接経費 （ｂ） | E52: ( | F52: =SUM(F54,F56,F58,F60,F62) -> 0 | G52: ) | H52: ( | I52: =SUM(I54,I56,I58,I60,I62) -> 0 | J52: ) | K52: 0.5 | L52: ( | M52: =SUM(M54,M56,M58,M60,M62) -> 0 | N52: )
F53: =SUM(F55,F57,F59,F61,F63) -> 0 | I53: =SUM(I55,I57,I59,I61,I63) -> 0 | M53: =SUM(M55,M57,M59,M61,M63) -> 0
B54: 賃金等 | E54: ( | G54: ) | H54: ( | J54: ) | L54: ( | N54: )
B56: 旅費 | E56: ( | G56: ) | H56: ( | J56: ) | L56: ( | N56: )
B58: 備品購入費等 | E58: ( | G58: ) | H58: ( | J58: ) | L58: ( | N58: )
B60: 委託料等 | E60: ( | G60: ) | H60: ( | J60: ) | L60: ( | N60: )
B62: その他 | E62: ( | G62: ) | H62: ( | J62: ) | L62: ( | N62: )
A64: 合 計 （ａ+ｂ） | E64: ( | F64: =F50+F52 -> 0 | G64: ) | H64: ( | I64: =I50+I52 -> 0 | J64: ) | L64: ( | M64: =M50+M52 -> 0 | N64: )
F65: =F51+F53 -> 0 | I65: =I51+I53 -> 0 | M65: =M51+M53 -> 0
A66: (注)
B67: １．変更申請の場合には、変更前の記載内容を上段（ ）書で記載すること。
...

Sheet 交付別紙3
H1: 別紙３Ａ
A3: 科目別使途明細書（マネジメントシステム整備費）
H5: (単位：千円)
A6: 科 目 | C6: 内 容 | D6: 金 額 | G6: 積 算 内 訳 | H6: 使 途
A7: 直接経費
B8: 賃金等 | D8: ( | F8: )
B11: 旅費 | D11: ( | F11: )
B14: 備品購入費等 | D14: ( | F14: )
B17: 委託料等 | D17: ( | F17: )
B20: その他 | D20: ( | F20: )
A23: 合 計 | D23: ( | E23: =SUM(E8,E11,E14,E17,E20) -> 0 | F23: )
E24: =SUM(E9,E12,E15,E18,E21) -> 0
A25: （注）
B26: １.変更申請の場合には、変更前の記載内容を上段（ ）書で記載すること。
B27: ２.作成にあたっては、（別表）科目別使途内訳を参考にすること。
B28: ３.積算内訳の欄には，当該経費に係る額の算出についての積算の内訳を詳細に記載すること。
B29: ４.使途の欄には、必要に応じて、当該積算内訳についての使途の内容を記載すること。
D34: プロジェクト名： | E34: =別記様式第1!D13 -> 0
H36: 別紙３Ｂ
A38: 科目別使途明細書（技術の検証費）
H40: (単位：千円)
A41: 科 目 | C41: 内 容 | D41: 金 額 | G41: 積 算 内 訳 | H41: 使 途
A42: 直接経費
B43: 賃金等 | D43: ( | F43: )
B46: 旅費 | D46: ( | F46: )
B49: 備品購入費等 | D49: ( | F49: )
B52: 委託料等 | D52: ( | F52: )
B55: その他 | D55: ( | F55: )
A58: 合 計 | D58: ( | E58: =SUM(E43,E46,E49,E52,E55) -> 0 | F58: )
E59: =SUM(E44,E47,E50,E53,E56) -> 0
A60: (注)
B61: １.変更申請の場合には、変更前の記載内容を上段（ ）書で記載すること。
B62: ２.作成にあたっては、（別表）科目別使途内訳を参考にすること。
B63: ３.積算内訳の欄には，当該経費に係る額の算出についての積算の内訳を詳細に記載すること。
B64: ４.使途の欄には、必要に応じて、当該積算内訳についての使途の内容を記載すること。
D69: プロジェクト名： | E69: =別記様式第1!D13 -> 0
A71: （別表）
A72: 科目別使途内訳
B73: 直接経費
A74: 科 目 | C74: 説 明
...

Sheet 交付別紙4
H1: 別紙４
A3: 附帯事務費明細書
H6: (単位：千円)
A7: 費 目 | C7: 科 目 | D7: 金 額 | G7: 積 算 内 訳 | H7: 使 途
A8: 旅 費 | D8: ( | F8: )
A11: 庁 費 | D11: ( | F11: )
A14: 合 計 | D14: ( | E14: =SUM(E8,E11,) -> 0 | F14: )
E15: =SUM(E9,E12) -> 0
A16: (注)
B17: １.変更申請の場合には、変更前の記載内容を上段（ ）書で記載すること。
B18: ２.作成にあたっては、（別表）科目別使途内訳を参考にすること。
B19: ３.積算内訳の欄には，当該経費に係る額の算出についての積算の内訳を詳細に記載すること。
B20: ４.使途の欄には、必要に応じて、当該積算内訳についての使途の内容を記載すること。
D31: プロジェクト名： | F31: =別記様式第1!D13 -> 0
A33: （別表）
A34: 科目別使途内訳
A36: 費 目 | C36: 科 目 | D36: 説 明
A37: 旅 費 | C37: 旅 費 | D37: 事業執行に直接必要な出張、関係機関との連絡等に必要な普通旅費（直接経費で対象となるものを除く） ※旅費は国家公務員の旅費規程によって算出される額と実費のいずれか少ない額を対象とする。
A40: 庁 費 | C40: 賃 金 | D40: 事業執行に直接必要な補助員等の賃金（ただし、庶務、経理等の一般管理事務に従事する者を除く。）
C41: 報 償 費 | D41: 謝礼金等
C42: 需 用 費 | D42: 文具費，消耗器材費等消耗品費，自動車等の燃料費，図書，報告書，帳簿等の印刷，製本代等印刷製本費，電気，水道，ガス等の使用料，同計器使用料等光熱水費並びに事務用器具及び自動車等備品の修繕料
C43: 役 務 費 | D43: 郵便，電信電話料及び運搬料等通信運搬費，物品保管料，倉庫料等保管料，物品取扱手数料，報告書等の筆耕料並びに自動車損害保険料等
C44: 委 託 料 | D44: 調査等の委託料
C45: 使用料及び賃借料 | D45: 自動車借上，会場借上，物品その他の借上等使用料及び賃貸料
B47: (注) 以下の経費については、申請できない経費。
A48: 科 目 | D48: 説 明
A49: 建物等施設の建設、不動産取得に関する経費 | D49: ただし、本補助金で購入した設備・備品を導入することにより必要となる軽微な据付費等については、申請可能。
A50: 事業を実施する者の人件費 | D50: 応募者の構成員又は応募者の構成員に所属する者で、事業を実施するものの人件費。
A51: 技術補助者等に支払う経費のうち、労働時間に応じて支払う経費以外の経費 | D51: 雇用関係が生じるような月極の給与、退職金、ボーナス等の各種手当。ただし、労働者派遣事業者との契約により技術者等を受け入れるために必要な経費については申請可能。
A52: 国内外を問わず、単なる学会出席のための交通費、宿泊費、参加費 | D52: ただし、補助金の対象となった事業に関する成果発表会を行う場合は申請可能。
A53: 効果の検証中に発生した事故・災害の処理のための経費 | D53: －
A54: その他、当該事業における効果の検証の実施に関連性のない経費 | D54: －
A55: 当該事業の補助金交付の申請に関わる費用 | D55: 補助金交付に関する申請書作成費及び事務代行費。申請に伴う旅費及び庁費（賃金、文具費、印刷費、郵便・通信運搬費等）

Sheet 交付別添1
I1: 別添１
B2: 年度別事業計画内訳書
I3: （単位：千円）
B4: 事業区分 | C4: 年度計画 | D4: 全体計画 | E4: 令和６年度 | F4: 令和７年度 | G4: 令和８年度 | H4: 令和９年度 | I4: 令和10年度以降
B5: 建築設計費 | C5: 事業費 | D5: =SUM(E5:I5) -> 0
C6: 補助対象事業費 | D6: =SUM(E6:I6) -> 0
C7: 補助額（国費） | D7: =SUM(E7:I7) -> 0
B8: 建設工事費 | C8: 事業費 | D8: =SUM(E8:I8) -> 0
C9: 補助対象事業費 | D9: =SUM(E9:I9) -> 0
C10: 補助額（国費） | D10: =SUM(E10:I10) -> 0
B11: マネジメントシステム 整備費 | C11: 事業費 | D11: =SUM(E11:I11) -> 0
C12: 補助対象事業費 | D12: =SUM(E12:I12) -> 0
C13: 補助額（国費） | D13: =SUM(E13:I13) -> 0
B14: 技術の検証費 | C14: 事業費 | D14: =SUM(E14:I14) -> 0
C15: 補助対象事業費 | D15: =SUM(E15:I15) -> 0
C16: 補助額（国費） | D16: =SUM(E16:I16) -> 0
B17: 小 計 | C17: 事業費 | D17: =SUM(E17:I17) -> 0 | E17: =E5+E8+E11+E14 -> 0 | F17: =F5+F8+F11+F14 -> 0 | G17: =G5+G8+G11+G14 -> 0 | H17: =H5+H8+H11+H14 -> 0 | I17: =I5+I8+I11+I14 -> 0
C18: 補助対象事業費 | D18: =SUM(E18:I18) -> 0 | E18: =E6+E9+E12+E15 -> 0 | F18: =F6+F9+F12+F15 -> 0 | G18: =G6+G9+G12+G15 -> 0 | H18: =H6+H9+H12+H15 -> 0 | I18: =I6+I9+I12+I15 -> 0
C19: 補助額（国費） | D19: =SUM(E19:I19) -> 0 | E19: =E7+E10+E13+E16 -> 0 | F19: =F7+F10+F13+F16 -> 0 | G19: =G7+G10+G13+G16 -> 0 | H19: =H7+H10+H13+H16 -> 0 | I19: =I7+I10+I13+I16 -> 0
B20: 附帯事務費(小計×2.2%以内) | C20: 補助額（国費） | D20: =SUM(E20:I20) -> 0
B21: 合 計 | C21: 事業費 | D21: =SUM(E21:I21) -> 0 | E21: =E17 -> 0 | F21: =F17 -> 0 | G21: =G17 -> 0 | H21: =H17 -> 0 | I21: =I17 -> 0
C22: 補助対象事業費 | D22: =SUM(E22:I22) -> 0 | E22: =E18 -> 0 | F22: =F18 -> 0 | G22: =G18 -> 0 | H22: =H18 -> 0 | I22: =I18 -> 0
C23: 補助額（国費） | D23: =SUM(E23:I23) -> 0 | E23: =E19+E20 -> 0 | F23: =F19+F20 -> 0 | G23: =G19+G20 -> 0 | H23: =H19+H20 -> 0 | I23: =I19+I20 -> 0
B24: 採択額（国費）
H25: の欄に記載してください。
B26: ﾌﾟﾛｼﾞｪｸﾄの完了年月 ※1 | D26: 令和 年 月 | E26: ※1 採択されたプロジェクトが完了する年月を記載してください。
B27: 補助事業の最終年度 ※2 | D27: 令和 年度 | E27: ※2 補助対象となった事業項目が終了する年度を記載してください（補助金受領の最終年度）。
B28: 許認可の取得予定年月 ※3 | D28: 令和 年 月 | E28: ※3 その開設に際し許認可を必要とする施設に係る建設工事が補助事業に含まれる場合は、
E29: 当該許認可を取得する予定の年月を記載してください。
B30: 注）
B31: １．各年度とも事業費は３月末までの出来高に基づいて記載してください。
B32: 補助対象事業費および補助額は交付申請する予定の年度の欄に記載してください。 | G32: 提案者名：
B33: ２．各項目の補助額（国費）については補助対象事業費の1/2の金額を記載してください（千円未満は切り捨て）。
B34: ３．附帯事務費は、各年度における小計補助額（国費）の2.2%以内の金額を記載してください（千円未満は切り捨て）。 | G34: プロジェクト名： | H34: =別記様式第1!D13 -> 0
B35: ４．額が確定していない場合は、現時点での見通しで記載してください。
B36: ５．採択額（国費）の欄には、採択通知書に記載されている額を記載してください。 | G36: 提案採択時期： | H36: 令和 年度 第 回
B37: なお、全体計画の合計補助額は採択額（国費）以内でなければなりません。

Sheet 交付別添2
Q1: 別添２ | T1: 別添２
A2: 建築士による建築物の環境効率の評価結果書 | U2: 注意点 1.出力は「白黒」でお願いします。
A4: 当該申請に係る建築物の環境効率の評価結果は次のとおりであることを証明する。
A5: 令和 年 月 日
Q6: （一級・二級・木造の別を記入）建築士 登録 号
J7: 建築士の氏名
H8: （CASBEE評価員が作成した場合：登録 号）
A9: ※建築士は本内容について責任を持つものとする。不正があった場合は、建築士法にもとづき処分を行う場合があることに留意すること。
A10: １．建築物の基本事項
A11: プロジェクト名 | C11: =別記様式第1!D13 -> 0
A12: 建築物の名称
A13: 所在地
A14: 用途 （該当するものを「■」） | C14: □ | D14: 集合住宅 | F14: □ | G14: 請負戸建住宅 | J14: □ | K14: 建売戸建住宅 | N14: □ | O14: その他（ ） | S14: ■
A15: 構造・工法 （該当するものを「■」） | C15: □ | D15: 木造 | E15: □ | F15: 鉄骨造 | H15: □ | I15: ＲＣ造 | K15: □ | L15: ＳＲＣ造 | N15: □ | O15: その他（ ） | S15: □
A16: 延べ面積・階数 | C16: 延べ面積 | F16: ： | I16: ㎡ | J16: ・ | K16: 地上 | L16: 0 | M16: 階 | O16: 地下 | P16: 0 | Q16: 階
A18: (注)「プロジェクト名」欄には、提案申請書様式１に記載してある「プロジェクト名」を記載すること。
A20: ２．申請者等の概要
A21: 申請者 | C21: 氏名又は名称
C22: 住所
A23: 建築主 | C23: 氏名又は名称
C24: 住所
A25: 設計者 | C25: 設計者資格 | G25: （ ）建築士 ( )登録 号
C26: 設計者氏名
C27: 事務所登録 | G27: （ ）知事登録 号
C28: 建築士事務所名 | G28: （ ）建築士事務所
C29: 所在地
C30: 電話番号

Sheet 交付別添2・3
F1: 建築物の名称： | J1: =交付別添2!C12 -> 0 | S1: 別添２
A2: ３．環境効率の適合状況
A3: （１）評価結果 （ＣＡＳＢＥＥ 戸建-新築 の場合） | P3: Ｓ★★★★★ | S3: 注意点 1.出力は「白黒」でお願いします。
A4: 環境性能 | C4: 区分 | D4: 提案時の数値基準 | H4: 今回の申請結果 | L4: 適合性の評価 | P4: Ａ★★★★
A5: すまいの環境効率 （ＢＥＥＨ） | C5: ＢＥＥH ランク | D5: =IF(D6>=3,P3,IF(D6>=1.5,P4,IF(D6>=1,P5,"-"))) -> - | H5: =IF(H6>=3,P3,IF(H6>=1.5,P4,IF(H6>=1,P5,"-"))) -> - | L5: □ | M5: 適 | N5: □ | O5: 不適 | P5: Ｂ+★★★
C6: ＢＥＥH 値
A7: ライフサイクル ＣＯ2排出率 | C7: ＣＯ2 排出率 | D7: - | F7: ％ | H7: - | J7: ％ | L7: □ | M7: 適 | N7: □ | O7: 不適 | P7: ～０％ | Q7: ☆☆☆☆☆
C8: ランク | D8: =IF(D7<=0,Q7,IF(D7<=50,Q8,IF(D7<=75,Q9,IF(D7<=100,Q10,"-")))) -> - | H8: =IF(H7<=0,Q7,IF(H7<=50,Q8,IF(H7<=75,Q9,IF(H7<=100,Q10,"-")))) -> - | P8: ～50％ | Q8: ☆☆☆☆
A9: (注) １．「適合性の評価」欄には、どちらか該当する方に「■」をつけること。 ただし、提案時の基準値より今回の申請結果が同等、若しくは上回る場合のみ適 とする。 ２．CASBEE 以外のツールを適用する場合、上記の評価結果を参考に任意の様式を作成 し、提出をして下さい。 | P9: ～75％ | Q9: ☆☆☆
P10: ～100％ | Q10: ☆☆
P11: □
A12: （２）使用した環境効率の評価ツール | P12: ■
A13: ＣＡＳＢＥＥ評価ツール （該当するものを「■」） | D13: □ | E13: CASBEE - 建築（新築 ）(2024年版)
D14: □ | E14: CASBEE - 建築（新築） (2021年SDGs対応版)
D15: □ | E15: CASBEE - 戸建（新築 ）(2025年版)
D16: □ | E16: CASBEE - 戸建（新築 ）(2021年SDGs対応版)
D17: □ | E17: 上記以外のCASBEE（ ）
A18: (注) １. 「上記以外のCASBEE」、又は「CASBEE以外の評価ツール」を選択した場合には、 別にLCCO2の計算結果を作成し提出をすること。
A20: （３）環境効率の評価結果シート
A21: (注) １．環境効率の評価結果シートを提出すること。 ２．住宅の棟ごとに作成すること。

Sheet 交付別添3
Q1: 別添３ | U1: 別添３
A2: 建築士による省エネルギー性能の適合確認書 | U2: 注意点 1.出力は「白黒」でお願いします。 2.審査を経た後、申請者に交付決定通知書が送付されます。この交付申請・交付決定の手続きをもって正式な補助の採択となります。この交付手続きにおいて申請の内容が採択された内容と整合しないと判断された事業又はその部分は、補助の対象とならない場合がありますのでご留意下さい。 ＜交付申請の原則＞ 補助事業は、交付決定を受けてから（交付決定の日付以降）補助対象工事に着手することが原則です。
A4: 当該申請に係る建築物の設計内容の省エネルギー性能の適合状況は次のとおりであることを証明する。
A6: 令和 年 月 日
Q7: （一級・二級・木造の別を記入）建築士 登録 号
J8: 建築士の氏名
A9: ※建築士は本内容について責任を持つものとする。不正があった場合は、建築士法にもとづき処分を行う場合があることに留意すること。
A10: １．建築物の基本事項
A11: プロジェクト名 | C11: =別記様式第1!D13 -> 0
A12: 建築物の名称 | C12: =交付別添2!C12 -> 0
A13: 所在地 | C13: =交付別添2!C13 -> 0
A14: 用途 （該当するものを「■」） | C14: □ | D14: 集合住宅 | F14: □ | G14: 請負戸建住宅 | J14: □ | K14: 建売戸建住宅 | N14: □ | O14: その他（ ） | S14: ■
A15: 構造・工法 （該当するものを「■」） | C15: □ | D15: 木造 | E15: □ | F15: 鉄骨造 | H15: □ | I15: ＲＣ造 | K15: □ | L15: ＳＲＣ造 | N15: □ | O15: その他（ ） | S15: □
A16: 延べ面積・階数 | C16: 延べ面積 | F16: ： | I16: ㎡ | J16: ・ | K16: 地上 | L16: 0 | M16: 階 | O16: 地下 | P16: 0 | Q16: 階
A18: 他の補助金申請 （該当するものを「■」） | C18: □ | D18: 無 | E18: □ | F18: 有 | G18: （補助金名： ） | N18: □ | O18: 国費 | P18: □ | Q18: 国費外
A19: (注)「プロジェクト名」欄には、提案申請書様式１に記載してある「プロジェクト名」を記載すること。
A21: ２．申請者等の概要
A22: 申請者 | C22: 氏名又は名称
C23: 住所
A24: 建築主 | C24: 氏名又は名称
C25: 住所
A26: 設計者 | C26: 設計者資格 | G26: （ ）建築士 ( )登録 号
C27: 設計者氏名
C28: 事務所登録 | G28: （ ）知事登録 号
C29: 建築士事務所名 | G29: （ ）建築士事務所
C30: 所在地
C31: 電話番号

Sheet 交付別添3・3 
G1: 建築物の名称： | J1: =交付別添2!C12 -> 0 | T1: 別添３
A2: ３．省エネルギー性能の適合状況 | R2: １
A3: 省エネルギー措置の項目 ： 外壁、窓等を通しての熱の損失の防止のための措置 | R3: ２ | T3: 注意点 1.出力は「白黒」でお願いします。
A4: 該当する地域区分 | K4: 【 | P4: 地域】 | R4: ３
A5: 省エネルギー性能 | I5: 地域区分又は基準一次エネルギー消費量又は提案時の 数値基準 | L5: 今回の 申請結果 | O5: 適合性の 評価 | R5: ４
A6: 住宅以外 | B6: □ | C6: 外皮 | E6: [MJ/（㎡・年）] | O6: □ | P6: 適 | R6: ５
C7: 一次エネルギー消費量 | E7: [GJ/（年）] | O7: □ | P7: 不適 | R7: ６
A8: 住宅 | B8: □ | C8: 外皮平均熱貫流率 | E8: [W/（㎡・K）] | R8: ７
C9: 冷房期の平均日射熱取得率 | E9: [ηA] | O9: □ | P9: 適 | R9: ８
C10: 一次エネルギー消費量 | E10: [GJ/（年）] | O10: □ | P10: 不適 | R10: □
B11: □ | C11: 仕様基準（設計・施工指針）附則 | I11: 別紙仕様書 参照 | L11: 別紙仕様書 参照 | R11: ■
A12: (注) １．□には、該当する方に「■」をつけること。ただし、提案時の基準値より今回の申請結果が同等、 若しくは上回る場合のみ「適」とする。 ２.新築の採択プロジェクトについて、令和４年度以降はZEH基準の水準の省エネ性能、満たすこと。 改修の採択プロジェクトは、省エネルギー基準を満たすこと。 ３.建築物のエネルギー消費性能の向上に関する法律（以下、建築物省エネ法という。）第11条第1項 および第3項で定める建築物エネルギー消費性能確保計画を提出し適合判定通知書を取得している 場合、ＢＥＬＳ（建築物省エネ法第７条に基づく建築物省エネルギー性能表示のための第三者機関 による評価業務実施指針に基づき実施する建築物エネルギー性能表示制度）を取得している場合、 都市の低炭素化の促進に関する法律第53条及び第55条により計画の認定を取得している場合、 又は住宅の品質確保等に関する法律第6条に規定する設計住宅性能評価書を取得している場合 にあっては、その写しを添付すること。この場合、上記項目の記載は不要。 （ただし、設計住宅性能評価書によるものは建設住宅性能評価書を取得すること。） ４．原則として、建築物の棟ごとに作成するものとするが、届出書を複数棟で提出する場合等にあっ ては、複数棟で作成することも可とする。 ５．住宅の場合で仕様基準を適用する場合には、該当項目にその旨を記載し、仕様が分かる資料を 提出すること。

Sheet 交付別添4-1
A1: 別添４－１ | U1: 別添４－１
A2: 建築士による提案内容への適合確認書 | U2: 注意点 1.出力は「白黒」でお願いします。 2.審査を経た後、申請者に交付決定通知書が送付されます。この交付申請・交付決定の手続きをもって正式な補助の採択となります。この交付手続きにおいて申請の内容が採択された内容と整合しないと判断された事業又はその部分は、補助の対象とならない場合がありますのでご留意下さい。 ＜交付申請の原則＞ 補助事業は、交付決定を受けてから（交付決定の日付以降）補助対象工事に着手することが原則です。
A4: 当該申請に係る建築物の設計内容とサステナブル建築物等先導事業（LCCO2評価先導型）の提案申請書に記載されている提案内容との適合状況は次のとおりであることを証明する。
A6: 令和 年 月 日
Q7: （一級・二級・木造の別を記入）建築士 登録 号
J8: 建築士の氏名
A9: ※建築士は本内容について責任を持つものとする。不正があった場合は、建築士法にもとづき処分を行う場合があることに留意すること。
A10: １．建築物の基本事項
A11: プロジェクト名 | C11: =別記様式第1!D13 -> 0
A12: 建築物の名称 | C12: =交付別添2!C12 -> 0
A13: 所在地 | C13: =交付別添2!C13 -> 0
A14: 用途 （該当するものを「■」） | C14: □ | D14: 集合住宅 | F14: □ | G14: 請負戸建住宅 | J14: □ | K14: 建売戸建住宅 | N14: □ | O14: その他（ ） | S14: ■
A15: 構造・工法 （該当するものを「■」） | C15: □ | D15: 木造 | E15: □ | F15: 鉄骨造 | H15: □ | I15: ＲＣ造 | K15: □ | L15: ＳＲＣ造 | N15: □ | O15: その他（ ） | S15: □
A16: 延べ面積・階数 | C16: 延べ面積 | F16: ： | I16: ㎡ | J16: ・ | K16: 地上 | L16: 0 | M16: 階 | O16: 地下 | P16: 0 | Q16: 階
A18: 他の補助金申請 （該当するものを「■」） | C18: □ | D18: 無 | E18: □ | F18: 有 | G18: （補助金名： ） | N18: □ | O18: 国費 | P18: □ | Q18: 国費外
A19: 立地区域の確認 | C19: □ | D19: 土砂災害特別警戒区域に該当しない
C20: □ | D20: 急傾斜地崩壊危険区域に該当しない
C21: □ | D21: 地すべり防止区域に該当しない
C22: □ | D22: 都市再生特別措置法第88条第５項の規定による勧告に従わなかった旨の公表がされていない
C23: □ | D23: 市街化調整区域のうち土砂災害警戒区域又は浸水想定区域に該当しない
C24: □ | D24: 市街化調整区域以外の区域のうち土砂災害警戒区域又は浸水想定区域かつ、災害危険区域に該当しない
A25: 構造の安全性 (※1） | C25: □ | D25: ①構造計算により構造安全性を確認（300㎡超の場合は必須）
C26: □ | D26: ②新壁量等の基準により構造安全性を確認
A27: (注)「プロジェクト名」欄には、提案申請書様式１に記載してある「プロジェクト名」を記載すること。
A28: (※1）建築基準法の施行（令和７年4月1日）により、木造建築物については、
A29: 規模により、上記いずれかによる構造安全性の確認を求めます。ただし、
A30: 建築基準法施行令第４３条第１項及び第４６条第４項等の経過措置は適用外とする。
A31: ２．申請者等の概要
A32: 申請者 | C32: 氏名又は名称
C33: 住所
A34: 建築主 | C34: 氏名又は名称
C35: 住所
A36: 設計者 | C36: 設計者資格 | G36: （ ）建築士 ( )登録 号
C37: 設計者氏名
C38: 事務所登録 | G38: （ ）知事登録 号
C39: 建築士事務所名 | G39: （ ）建築士事務所
C40: 所在地
C41: 電話番号

Sheet 交付別添4-2
A1: 別添４－２ | U1: 別添４－２
A2: 提案内容への適合確認書 | U2: 注意点 1.出力は「白黒」でお願いします。 2.審査を経た後、申請者に交付決定通知書が送付されます。この交付申請・交付決定の手続きをもって正式な補助の採択となります。この交付手続きにおいて申請の内容が採択された内容と整合しないと判断された事業又はその部分は、補助の対象とならない場合がありますのでご留意下さい。 ＜交付申請の原則＞ 補助事業は、交付決定を受けてから（交付決定の日付以降）補助対象工事に着手することが原則です。
A3: (マネジメント及び技術の検証の場合）
A4: 当該申請に係る省ＣＯ2マネジメントシステムの整備及び技術の検証に関する内容とサステナブル建築物等先導事業（LCCO2評価先導型）の提案申請書に記載されている提案内容との適合状況は次のとおりである。
A7: １．マネジメント又は技術の検証を実施する建築物の基本事項
A8: プロジェクト名 | C8: =別記様式第1!D13 -> 0
A9: 建築物の名称 | C9: =交付別添2!C12 -> 0
A10: 所在地 | C10: =交付別添2!C13 -> 0
A11: 用途 （該当するものを「■」） | C11: □ | D11: 集合住宅 | F11: □ | G11: 請負戸建住宅 | J11: □ | K11: 建売戸建住宅 | N11: □ | O11: その他（ ） | S11: ■
A12: 構造・工法 （該当するものを「■」） | C12: □ | D12: 木造 | E12: □ | F12: 鉄骨造 | H12: □ | I12: ＲＣ造 | K12: □ | L12: ＳＲＣ造 | N12: □ | O12: その他（ ） | S12: □
A13: 延べ面積・階数 | C13: 延べ面積 | F13: ： | I13: ㎡ | J13: ・ | K13: 地上 | L13: 0 | M13: 階 | O13: 地下 | P13: 0 | Q13: 階
A15: 他の補助金申請 （該当するものを「■」） | C15: □ | D15: 無 | E15: □ | F15: 有 | G15: （補助金名： ） | N15: □ | O15: 国費 | P15: □ | Q15: 国費外
A16: (注)「プロジェクト名」欄には、提案申請書様式１に記載してある「プロジェクト名」を記載すること。
A18: ２．申請者及び実施者等の概要
A19: 申請者 | C19: 氏名又は名称
C20: 住所
A21: 建築主 | C21: 氏名又は名称
C22: 住所
A23: マネジメントの 実施者 | C23: 氏名又は名称
C24: 住所
A25: 技術の検証の実施者 | C25: 氏名又は名称
C26: 住所
A27: 設計者 | C27: 設計者資格 | G27: （ ）建築士 ( )登録 号
C28: 設計者氏名
C29: 事務所登録 | G29: （ ）知事登録 号
C30: 建築士事務所名 | G30: （ ）建築士事務所
C31: 所在地
C32: 電話番号
A33: (注)該当する欄のみ記載すること。

Sheet 交付別添4・3
E1: 建築物の名称： | F1: =交付別添2!C12 -> 0
A2: ３．先導的な提案内容への適合状況 | L2: 別添４
A3: 提案項目 | D3: 提案概要 | G3: 補助金交付 項目 | H3: 適合性の 評価 | L3: 注意点 1.出力は「白黒」でお願いします。 2.交付申請時に添付の他に、実績報告（実績中間報告書）に提出する、別添1-1「建築士による提案内容への適合確認書」別添1-2「提案内容への適合確認書」の添付資料としても使用します。
G5: ― | H5: □ | I5: 適 | J5: □
H6: □ | I6: 不適 | J6: ■
G7: ― | H7: □ | I7: 適 | J7: ○
H8: □ | I8: 不適 | J8: ―
G9: ― | H9: □ | I9: 適
H10: □ | I10: 不適
G11: ― | H11: □ | I11: 適
H12: □ | I12: 不適
G13: ― | H13: □ | I13: 適
H14: □ | I14: 不適
G15: ― | H15: □ | I15: 適
H16: □ | I16: 不適
G17: ― | H17: □ | I17: 適
H18: □ | I18: 不適
G19: ― | H19: □ | I19: 適
H20: □ | I20: 不適
G21: ― | H21: □ | I21: 適
H22: □ | I22: 不適
G23: ― | H23: □ | I23: 適
H24: □ | I24: 不適
A25: (注) １．「提案項目」、「提案概要」欄には、提案申請書様式３及び様式４－１を中心に省CO2の取り組み として提案している内容を記入すること。欄は適宜追加すること。 ２．「補助金交付項目」欄には、該当する項目に○をつけること ３．「適合性の評価」欄には、どちらか該当する方に■をつけること

Sheet 交付別添５
T1: 別添５
A3: 全体事業進捗管理表
A4: （複数の住宅を整備する提案の場合のみ記入）
A6: 当該年度に採択を受けた提案に係る場合
A7: 採択を受けた棟数・戸数 | F7: 交付申請棟数・戸数（a) | K7: 今年度中に変更申請を予定している棟数・戸数（ｂ） | P7: 来年度以降に交付申請予定の棟数・戸数（C)
A9: 棟 | F9: 棟（ 棟） | K9: 棟（ 棟） | P9: 棟（ 棟）
A10: 戸 | F10: 戸（ 戸） | K10: 戸（ 戸） | P10: 戸（ 戸）
A12: ｂについて変更申請の予定時期の内訳
A13: 変更申請予定時期 | K13: 変更申請を予定している棟数・戸数
A15: 月 | K15: 棟
K16: 戸
A17: 月 | K17: 棟
K18: 戸
A19: 月 | K19: 棟
K20: 戸
A21: 月 | K21: 棟
K22: 戸
A25: 過年度に採択を受けた提案に係る場合
A26: 過年度に採択を受けた棟数・戸数 | E26: 過年度に竣工し、かつ実績報告済の棟数・戸数（a) | I26: 交付申請棟数・戸数（ｂ） | M26: 今年度中に変更申請を予定している棟数・戸数（C) | Q26: 来年度以降に交付申請予定の棟数・戸数（ｄ)
A28: 棟 | E28: 棟 | I28: 棟（ 棟） | M28: 棟（ 棟） | Q28: 棟（ 棟）
A29: 戸 | E29: 戸 | I29: 戸（ 戸） | M29: 戸（ 戸） | Q29: 戸（ 戸）
A30: (注)変更申請の場合には、変更前の記載内容を（ ）書で記載すること。
A32: ｃについて変更申請の予定時期の内訳
A33: 変更申請予定時期 | K33: 変更申請を予定している棟数・戸数
A35: 月 | K35: 棟
K36: 戸
A37: 月 | K37: 棟
K38: 戸
A39: 月 | K39: 棟
K40: 戸
A41: 月 | K41: 棟
K42: 戸
A43: (注)変更申請の場合には、変更前の記載内容を（ ）書で記載すること。
A44: （a）～（ｃ）（過年度に採択を受けた提案にあっては、（a）～（ｄ））の合計棟数・戸数が採択を受けた棟数・戸数に
A45: 一致するように記載すること。
G47: プロジェクト名： | K47: =別記様式第1!D13 -> 0

Sheet 交付別添6 
N1: 別添６
A3: 振込口座登録票
B6: 1.銀行名 | L6: 銀行
C8: 銀行コード
B11: 2.支店名 | L11: 支店
C13: 支店コード
B16: 3.預金種別（該当する種別を〇で囲んでください）
C18: 普通 ・ 当座 ・ 総合
B21: 4.口座番号
B25: 5.郵便番号及び住所
B27: １）郵便番号 〒
B29: ２）住所
B30: カナ：
B31: (都道府県名からの記載）
B32: 注1）国庫金振込通知書の送付先を記入してください。
B33: 注2）難読地名には、必ず振り仮名を記入してください。
B36: 6.口座名：
B37: カナ：
F39: プロジェクト名： | I39: =別記様式第1!D13 -> 0

Sheet 交付別添7
AF1: 別添７
A4: 補助事業者等に関する宣誓書
C7: 下記１.～４.の各項目について、該当する項目をチェックし、宣誓してください。
C9: １．本補助事業において、以下の（１）～（３）の関係にある会社から行う調達の有無。
C11: （１）１００％同一の資本に属するグループ会社
C12: （２）補助金申請者の関係会社（財務諸表等規則第８条第８項で定めるもの。上記（１）
E13: を除く。）
C14: （３）補助金申請者の役員である者（親族を含む）又はこれらの者が役員に就任している法人
E16: （１）～（３）の関係にある会社からの調達は一切ない。 | Z16: □ | AH16: □
E17: （１）～（３）の関係にある会社からの調達がある。 | Z17: □ | AH17: ■
D19: （１）～（３）の関係にある会社からの調達がある場合には、価格の妥当性を確認する
D20: ため、関係会社等以外の２者を含めた３者以上からの見積り結果の添付を求めます。
C23: ２．過去３カ年度内に国土交通省住宅局が所轄する他の補助事業において補助金返還命令
D24: を受けたこと。
H26: 該当無し | L26: □ | O26: 該当有り | S26: □
C28: ３．暴力団又は暴力団員であること、及び暴力団又は暴力団員と不適切な関係にあること。
H30: 該当無し | L30: □ | O30: 該当有り | S30: □
C32: ４．補助金等に係る予算の執行の適正化に関する法律（昭和30年法律第179号）第17条
D33: （決定の取消）に該当した場合は、他府省庁・独立行政法人を含む他の補助金担当課
D34: に当該返還事案の概要（法人又は申請者名・補助金名・交付決定額・補助事業の
D35: 実施期間・返還を生じた理由・講じられた措置の内容等）を提供することがあります。
H37: 上記４の内容について 同意する | T37: □
C39: ・２．３．において該当のある事業者は、原則として補助金の申請をすることが
C40: できません。
C41: ・４．において個人情報の使用について同意して頂けない場合は、交付申請を受け付け
C42: られません。
C43: ・本確認書に虚偽の記載をし、記載内容が事実と相違していることが発覚した場合は、
C44: 補助金の全額返還を求めることがあります。
S46: 令和 年 月 日
R47: （代表者）
P48: 提案団体名：
P49: 代表者：

Sheet 交付別添８
AF1: 別添８
A5: 令和８年度住宅・建築物環境対策事業費補助金事業の交付申請に係る宣誓書
C9: 令和８年度住宅・建築物環境対策事業費補助金事業の交付申請にあたり、下記の事項
C10: について確認し、遵守することを宣誓します。
C13: １．完了予定期日までに実施できる事業内容を精査し、当該事業の実施に
D14: 必要な補助金の額を交付申請すること。
C16: ２．交付決定後、やむを得ない事情により、完了予定期日までに実施する事業の
D17: 内容に変更が生じ、当該事業の実施に必要な補助金の額が交付決定額を下回るこ
D18: とが見込まれる場合は、速やかに事務事業者に報告の上、その指示に従うこと。
C20: ３．１及び２の事項を遵守しなかった場合には、その後の住宅局の補助事業等で
D21: 補助金の交付を受けられない場合があることを承諾すること。
C27: 令和 年 月 日
D29: （代表提案者）
D30: 提案団体名：
D31: 代表者：
D32: 責任者： | AG32: ここでの責任者とは、事務窓口のご連絡先ではなく、事業部長や本部長、工場長など
D33: 電話番号： | AG33: 本プロジェクトの責任をとれる方で、電話番号は責任者様の電話番号を明記願います。

Sheet 別記様式第4
A1: 別記様式第４
E2: 令和 年 月 日
A3: 一般社団法人 環境共生まちづくり協会
A4: 会長 竹中 宣雄 様
D5: （代表提案者）
D6: 提案団体名
D7: 代表者
B8: 令和８年度住宅・建築物環境対策事業費補助金交付変更承認申請書
A9: 令和 年 月 日付けＫＫＪR08発第 号をもって交付決定の通知を受けた標記事業については，当該決定の額及びその内容を変更したいので，下記のとおり申請します。
A10: 記
B11: １．補助事業の名称 | D11: サステナブル建築物等先導事業（LCCO2評価先導型）
C12: 部門名（ | D12: =別記様式第1!D12 -> 0 | F12: ）
C13: プロジェクト名（ | D13: =別記様式第1!D13 -> 0 | F13: ）
B14: ２．交付申請額 | E14: 千円
B15: 前回交付決定額 | E15: 千円
B16: 変更増△減額 | E16: 千円
B17: ３．変更理由 別紙のとおり
B18: ４．交付申請額の算出方法及び事業経費の配分 （別紙１、２、3、４のとおり）
B19: ５．事業完了の期日 | D19: 令和 年 月 日
B21: （申請書類）
C22: １．交付申請額の算出方法及び事業経費の配分 | F22: （ 別紙１ ）
C23: ２．交付申請額の算出方法の明細 | F23: （ 別紙２ ）
C24: ３．科目別使途明細書 | F24: （ 別紙３ ）
C25: ４．附帯事務費明細書 | F25: （ 別紙４ ）
B26: （添付資料）
C27: １．交付決定通知書（最終の通知書） | F27: （原本写し）
C28: ２．提案申請書様式３・採択通知書・適合を確認した建築士の建築士免許証 | F28: （原本写し）
C29: ３．年度別事業計画内訳書 | F29: （ 別添１ ）
C30: ４．建築士による建築物の環境効率の評価結果書 | F30: （ 別添２ ）
C31: ５．建築士による省エネルギー基準への適合確認書 | F31: （ 別添３ ）
C32: ６．建築士による提案内容への適合確認書 | F32: （ 別添４-１ ）
C33: ７．提案内容への適合確認書（マネジメント及び技術の検証の場合） | F33: （ 別添４-２ ）
C34: ８．全体事業進捗管理表（複数の住宅を整備する提案の場合） | F34: （ 別添５ ）
C35: ９．交付申請に係る宣誓書 | F35: （ 別添８ ）
C36: 10．共同事業実施規約（共同事業の場合のみ） | F36: （参考様式）
C37: 11．分譲住宅に係る誓約書（建売戸建住宅，分譲共同住宅を供給する場合） | F37: （参考様式）
C38: 12．住戸毎の個別明細（複数の住宅を整備する提案の場合） | F38: （参考様式）
... C41: 15．設計図書（平面、立面図など）と先導事業内容が示された書類等 | F41: （任意様式）
C42: 16．その他必要な資料
B44: （記載上の注意）
...

Sheet 実績中間報告書別添1
Q1: 別添１
M2: 令和 年 月 日
B3: 一般社団法人 環境共生まちづくり協会
B4: 会 長 竹 中 宣 雄 様
I5: （代表提案者）
I6: 提案団体名
I7: 代 表 者
A9: 令和８年度サステナブル建築物等先導事業（LCCO2評価先導型）補助金実績中間報告書
F11: 第 | H11: 回 | I11: 実 績 中 間 報 告 書
B13: 部 門 名 | F13: =別記様式第1!D12 -> 0
B14: プロジェクト名 | F14: =別記様式第1!D13 -> 0
B15: 提 案 者 名
B16: 事務連絡先 | C16: 所 属 | F16: フリガナ
C18: 担当者氏名 | F18: フリガナ
C20: 住 所 | F20: フリガナ
F21: 〒
C22: 電 話
C23: E -mail
C24: 工事完了報告棟数 | F24: 棟 （報告済棟数 棟）
N25: ↑前回までの完了報告棟数
B27: ※ 添付書類
C28: １．実績中間報告書 （別添１）
C29: ２. 実績中間報告内訳書 （別添２）
C30: ３. 建築士等による提案内容への適合確認書 （別添３－１）
C31: ４. 物件の写真等 （各個所の施工前、施工中、施工後など完了出来型が判別できるもの）（任意様式）
D32: ※写真は、事業者名、プロジェクト名、施工者名、日付、物件名称、工事内容を明記した
D33: ボード等を入れて撮影をしてください。
C34: ５．事業費の積算内訳が記載されている契約書等の写し
C35: ６. 工事等の事実を証明する書類（納品時の出荷証明書・完了検査済証の写し）
C36: ７. 省エネルギー性能の表示内容が確認できる資料
C37: ８. 事業費の支払いを証明する書類（領収書及び送金伝票等の写し）
C38: ９. 事業量の減少による減額があった場合はその変更内容と見積書（任意様式）
B39: ※ 用紙の大きさは日本工業規格で定めるA列４とし、縦位置とすること。（図面などはA列3横位置 可）

Sheet 実績中間報告内訳書 別添2
L1: 別添２
J2: 第 | K2: =実績中間報告書別添1!G11 -> 0 | L2: 回実績中間報告書
B3: 実 績 中 間 報 告 内 訳 書
B4: 棟番号（※1） 邸名 | E4: 事業費 | H4: 補助対象事業費 | K4: 補助率 | L4: 補助金交付申請額
E5: （※2） | H5: （※2） | L5: （※2）
B6: ( | D6: ) | E6: ( | G6: ) | H6: ( | J6: ) | K6: 1/2 | L6: ( | N6: )
B8: ( | D8: ) | E8: ( | G8: ) | H8: ( | J8: ) | K8: 1/2 | L8: ( | N8: )
B10: ( | D10: ) | E10: ( | G10: ) | H10: ( | J10: ) | K10: 1/2 | L10: ( | N10: )
B12: ( | D12: ) | E12: ( | G12: ) | H12: ( | J12: ) | K12: 1/2 | L12: ( | N12: )
B14: ( | D14: ) | E14: ( | G14: ) | H14: ( | J14: ) | K14: 1/2 | L14: ( | N14: )
B16: ( | D16: ) | E16: ( | G16: ) | H16: ( | J16: ) | K16: 1/2 | L16: ( | N16: )
B18: ( | D18: ) | E18: ( | G18: ) | H18: ( | J18: ) | K18: 1/2 | L18: ( | N18: )
B20: ( | D20: ) | E20: ( | G20: ) | H20: ( | J20: ) | K20: 1/2 | L20: ( | N20: )
B22: ( | D22: ) | E22: ( | G22: ) | H22: ( | J22: ) | K22: 1/2 | L22: ( | N22: )
B24: ( | D24: ) | E24: ( | G24: ) | H24: ( | J24: ) | K24: 1/2 | L24: ( | N24: )
B26: 今回報告建物の 小計（A）(※2） | E26: （ | F26: =SUM(F6,F8,F10,F12,F14,F16,F18,F20,F22,F24) -> 0 | G26: ) | H26: （ | I26: =SUM(I6,I8,I10,I12,I14,I16,I18,I20,I22,I24) -> 0 | J26: ) | L26: （ | M26: =SUM(M6,M8,M10,M12,M14,M16,M18,M20,M22,M24) -> 0 | N26: )
F27: =SUM(F7,F9,F11,F13,F15,F17,F19,F21,F23,F25) -> 0 | I27: =SUM(I7,I9,I11,I13,I15,I17,I19,I21,I23,I25) -> 0 | M27: =SUM(M7,M9,M11,M13,M15,M17,M19,M21,M23,M25) -> 0
B28: 前回までの実績中間報告済建物の合計額 (B）
B29: 合計 (C）=(A）+（B) | F29: =SUM(F28+F27) -> 0 | I29: =SUM(I28+I27) -> 0 | M29: =SUM(M27+M28) -> 0
N30: （単位 ： 千円）
B31: 注） １．他の補助金の対象工事は本事業の補助対象事業費に含めることはできません。
B32: ２． 金額に変更が生じる場合は変更承認申請が必要となります。
B33: ただし、事業内容に変更がなく交付決定額よりも小額となる場合は除きます。
B34: ※1 上段（ ）には交付申請の際に使用した棟番号を記載してください。
B35: ※2 上段（ ）内には交付申請で申請した金額を記載して下さい。
E38: プロジェクト名： | F38: =別記様式第1!D13 -> 0

Sheet 別記様式第10
A1: 別記様式第１０
E2: 令和 年 月 日
A3: 一般社団法人 環境共生まちづくり協会
A4: 会長 竹中 宣雄 様
D5: （代表提案者）
D6: 提案団体名
D7: 代表者
A8: 令和８年度住宅・建築物環境対策事業費補助金完了実績報告書
A9: 令和 年 月 日付けＫＫＪR08発第 号をもって補助金の交付決定を受けた標記事業が完了したので、令和８年度サステナブル建築物等先導事業（LCCO2評価先導型）補助金交付規程第１１の規定により、関係書類を添え、下記のとおり報告します。
A10: 記
B11: １．補助事業の名称 | D11: サステナブル建築物等先導事業（LCCO2評価先導型）
C12: 部門名（ | D12: =別記様式第1!D12 -> 0 | F12: ）
C13: プロジェクト名（ | D13: =別記様式第1!D13 -> 0 | F13: ）
B14: ２．補助金の交付決定額及び精算額
B15: 補助金の交付決定額 | E15: 千円
B16: 補助金の精算額 | E16: 千円
B17: ３．補助事業の実施期間 | D17: 令和 年 月 日 ～ 令和 年 月 日
B18: ４．補助事業の成果（添付書類のとおり）
B20: （申請書類）
C21: １．補助金精算調書 | F21: （ 別紙１ ）
C22: ２．科目別決算内訳 | F22: （ 別紙２ ）
C23: ３．科目別決算内訳の明細 | F23: （ 別紙３ ）
C24: ４．附帯事務費明細書 | F24: （ 別紙４ ）
C25: ５．年度別事業計画内訳書 | F25: （ 別紙５ ）
C26: ６．残存物件調書（該当がない場合は提出不要） | F26: （ 別紙６ ）
B27: （添付資料）
C28: １．交付決定通知書（最終の通知書） | F28: （原本写し）
C29: ２．建築士による提案内容への適合確認書 | F29: （ 別添３-１ ）
C30: ３．提案内容への適合確認書（マネジメント及び技術の検証の場合） | F30: （ 別添３-２ ）
C31: ４．物件の写真等 ※完了出来高が判別できるもの | F31: （任意様式）
C32: ５．事業費の積算内訳が記載されている契約書等 | F32: （原本写し）
C33: ６．工事等の事実を証明する書類（出荷証明書・完了検査済証の写し） | F33: （原本写し）
C34: ７．省エネルギー性能の表示内容が確認できる資料 | F34: （任意様式）
C35: ８．事業費の支払いを証明する書類 | F35: （任意様式）
C36: ９．減額内訳書 （事業量の減少による減額があった場合はその変更内容及び額） | F36: （任意様式）
C37: 10．経理に関する監査の実施報告書 | F37: （任意様式）
C38: 11．LCCO2評価算定結果（延べ面積2,000㎡以上の場合） | F38: （電子データ）
C39: 12．その他必要な資料・提案内容への提出可能な成果物
B42: （記載上の注意）
C43: １．用紙の大きさは、日本工業規格で定めるＡ列４とし、縦位置とすること。
...

Sheet 実績別紙1 
G1: 別紙１
A4: 補助金精算調書
G7: (単位：千円)
A8: 区 分 | E8: 金 額 | G8: 備 考
A9: 交付決定の内容 | B9: 1 | C9: 補助事業に要する経費
B10: 2 | C10: 補助金額
A11: 補助金換算額 | B11: 3 | C11: 精算対象支払額
B12: 4 | C12: 精算補助金額
A13: 5 | B13: 消費税仕入控除税額
A14: 6 | B14: 補助金返納額又は不用額 6=(2-4)+5 | E14: =E10-E12+E13 -> 0
A15: 7 | B15: 補助金受入済額
A16: 8 | B16: 差引受入未済額又は超過額 8=4-7 | E16: =E12-E15 -> 0
B17: （注）
C18: １.「１ 補助事業に要する経費」「３ 精算対象支払額」の欄は、それぞれ別紙２の
C19: 「補助対象事業費」と一致すること。
C20: ２.「２ 補助金額」「４ 精算補助金額」の欄は、それぞれ別紙２の「補助金精算額」と
C21: 一致すること。
C28: プロジェクト名： | D28: =別記様式第10!D13 -> 0

Sheet 実績別紙2
L1: 別紙２
A3: 科目別決算内訳
L6: (単位：千円)
A7: 事 業 区 分 | C7: 事業費 | F7: 補助対象事業費 | I7: 補助率 | J7: 補助金精算額
A8: サステナブル建築物等先導事業
B9: 建築設計費 | C9: ( | E9: ) | F9: ( | H9: ) | I9: 0.5 | J9: ( | L9: )
B11: 建設工事費 | C11: ( | E11: ) | F11: ( | H11: ) | I11: 0.5 | J11: ( | L11: )
B13: マネジメントシステム整備費 | C13: ( | E13: ) | F13: ( | H13: ) | I13: 0.5 | J13: ( | L13: )
B15: 技術の検証費 | C15: ( | E15: ) | F15: ( | H15: ) | I15: 0.5 | J15: ( | L15: )
B17: 小 計（Ａ） | C17: ( | D17: =D9+D11+D13+D15 -> 0 | E17: ) | F17: ( | G17: =G9+G11+G13+G15 -> 0 | H17: ) | J17: ( | K17: =K9+K11+K13+K15 -> 0 | L17: )
D18: =D10+D12+D14+D16 -> 0 | G18: =G10+G12+G14+G16 -> 0 | K18: =K10+K12+K14+K16 -> 0
B19: 附帯事務費（Ａ×2.2％以内） | J19: ( | L19: )
A21: 合計 | B21: 決算額合計 （Ｂ） | D21: =D18 -> 0 | G21: =G18 -> 0 | K21: =K18+K20 -> 0
B22: 交付決定額 （Ｃ） | D22: =D17 -> 0 | G22: =G17 -> 0 | K22: =K17+K19 -> 0
B23: 差額 （Ｂ－Ｃ） | D23: =D21-D22 -> 0 | G23: =G21-G22 -> 0 | K23: =K21-K22 -> 0
A25: （注）交付申請額を上段に（ ）書で記載すること。
G28: プロジェクト名： | H28: =別記様式第1!D13 -> 0

Sheet 実績別紙3
N1: 別紙３
A2: 科目別決算内訳の明細
A5: Ａ 建築設計費
N6: (単位：千円)
A7: 補助対象棟数 | F7: 事業費 | H7: 補助対象事業費 | K7: 補助率 | L7: 補助金精算額
A8: ( | C8: 棟 | D8: ) | E8: ( | G8: ) | H8: ( | J8: ) | K8: 0.5 | L8: ( | N8: )
C9: 棟
A10: (注)
B11: １．交付申請額を上段に（ ）書で記載すること。
B12: ２．事業費の積算内訳が記載されている請負契約書等を添付すること。（補助対象とならない費目に
B13: ついては、分かりやすく明記すること。）ただし、交付申請時から変更がない場合にあっては
B14: 不要。
A19: Ｂ 建設工事費（設備工事費を含む）
N20: (単位：千円)
A21: 補助対象棟数 | F21: 事業費 | H21: 補助対象事業費 | K21: 補助率 | L21: 補助金精算額
A22: ( | C22: 棟 | D22: ） | E22: ( | G22: ) | H22: ( | J22: ) | K22: 0.5 | L22: ( | N22: )
C23: 棟
A24: (注)
B25: １．交付申請額を上段に（ ）書で記載すること。
B26: ２．事業費の積算内訳が記載されている請負契約書等を添付すること。（補助対象とならない費目に
B27: ついては、分かりやすく明記すること。）ただし、交付申請時から変更がない場合にあっては
B28: 不要。
F42: プロジェクト名： | G42: =別記様式第1!D13 -> 0
A44: Ｃ マネジメントシステム整備費
N45: (単位：千円)
A46: 区 分 | F46: 事業費 | H46: 補助対象事業費 | K46: 補助率 | L46: 補助金精算額
A47: 建設工事費 （ａ） | E47: ( | G47: ) | H47: ( | J47: ) | K47: 0.5 | L47: ( | N47: )
A49: 直接経費 （ｂ） | E49: ( | F49: =SUM(F51,F53,F55,F57,F59) -> 0 | G49: ) | H49: ( | I49: =SUM(I51,I53,I55,I57,I59) -> 0 | J49: ) | K49: 0.5 | L49: ( | M49: =SUM(M51,M53,M55,M57,M59) -> 0 | N49: )
F50: =SUM(F52,F54,F56,F58,F60) -> 0 | I50: =SUM(I52,I54,I56,I58,I60) -> 0 | M50: =SUM(M52,M54,M56,M58,M60) -> 0
B51: 賃金等 | E51: ( | G51: ) | H51: ( | J51: ) | L51: ( | N51: )
B53: 旅費 | E53: ( | G53: ) | H53: ( | J53: ) | L53: ( | N53: )
B55: 備品購入費等 | E55: ( | G55: ) | H55: ( | J55: ) | L55: ( | N55: )
B57: 委託料等 | E57: ( | G57: ) | H57: ( | J57: ) | L57: ( | N57: )
B59: その他 | E59: ( | G59: ) | H59: ( | J59: ) | L59: ( | N59: )
A61: 合 計 （ａ+ｂ） | E61: ( | F61: =F47+F49 -> 0 | G61: ) | H61: ( | I61: =I47+I49 -> 0 | J61: ) | L61: ( | M61: =M47+M49 -> 0 | N61: )
F62: =F48+F50 -> 0 | I62: =I48+I50 -> 0 | M62: =M48+M50 -> 0
A63: (注)
B64: １．交付申請額を上段に（ ）書で記載すること。
B65: ２．建設工事費においては積算内訳が記載されている請負契約書等を添付すること。（補助対象とならない
B66: 費目については、分かりやすく明記すること。）ただし、交付申請時から変更がない場合にあっては
...

Sheet 実績別紙3A・B
H1: 別紙３Ａ
A3: 積算内訳（マネジメントシステム整備費）
H5: (単位：千円)
A6: 科 目 | C6: 内 容 | D6: 金 額 | G6: 積 算 内 訳 | H6: 使 途
A7: 直接経費
B8: 賃金等 | D8: ( | F8: ) | G8: 一覧表を添付すること（注３参照）
B11: 旅費 | D11: ( | F11: ) | G11: 一覧表を添付すること（注４参照）
B14: 備品購入費等 | D14: ( | F14: )
B17: 委託料等 | D17: ( | F17: )
B20: その他 | D20: ( | F20: )
A23: 合 計 | D23: ( | E23: =SUM(E8,E11,E14,E17,E20) -> 0 | F23: )
E24: =SUM(E9,E12,E15,E18,E21) -> 0
A25: (注)
B26: １．積算内訳の欄には、当該経費に係る額の算出についての積算の内訳の概要を記載すること。
B27: ２．使途の欄には、必要に応じて、当該積算内訳についての使途の内容を記載すること。
B28: ３．賃金等については、「氏名」、「勤務日数」、「金額」、「目的」の分かる勤務時間管理簿の写し及び
B29: 雇用契約書・労働条件通知書の写し。
B30: ４．旅費については、「氏名」、「期間」、「金額」、「行先」、「目的」の分かる一覧表を添付すること。
B31: ５．備品購入費等については、50万円以上の物品を購入したことが分かる証拠書類（領収書及び送金伝票等）を
B32: 添付すること。
B33: ６．委託料等については、支出金額の分かる証拠書類（契約書等）を添付すること。
B34: ７．支払いを証明する書類（領収書及び送金伝票等）の写しを添付すること。
B35: ８．交付申請額を上段に（ ）書で記載すること。
D37: プロジェクト名： | E37: =別記様式第1!D13 -> 0
H39: 別紙３Ｂ
A41: 積算内訳（技術の検証費）
H43: (単位：千円)
A44: 科 目 | C44: 内 容 | D44: 金 額 | G44: 積 算 内 訳 | H44: 使 途
A45: 直接経費
B46: 賃金等 | D46: ( | F46: ) | G46: 一覧表を添付すること（注３参照）
B49: 旅費 | D49: ( | F49: ) | G49: 一覧表を添付すること（注４参照）
B52: 備品購入費等 | D52: ( | F52: )
B55: 委託料等 | D55: ( | F55: )
B58: その他 | D58: ( | F58: )
A61: 合 計 | D61: ( | E61: =SUM(E46,E49,E52,E55,E58) -> 0 | F61: )
E62: =SUM(E47,E50,E53,E56,E59) -> 0
A63: (注)
B64: １．積算内訳の欄には、当該経費に係る額の算出についての積算の内訳の概要を記載すること。
B65: ２．使途の欄には、必要に応じて、当該積算内訳についての使途の内容を記載すること。
B66: ３．賃金等については、「氏名」、「勤務日数」、「金額」、「目的」の分かる勤務時間管理簿の写し及び
...

Sheet 実績別紙4 
H1: 別紙４
A3: 附帯事務費明細書
H6: (単位：千円)
A7: 費 目 | C7: 科 目 | D7: 金 額 | G7: 積 算 内 訳 | H7: 使 途
A8: 旅 費 | D8: ( | F8: ) | G8: 一覧表を添付すること（注４参照）
A11: 庁 費 | D11: ( | F11: )
A14: 合 計 | D14: ( | E14: =SUM(E8,E11,) -> 0 | F14: )
E15: =SUM(E9,E12,) -> 0
A16: (注)
B17: １.作成にあたっては、（別表）科目別使途内訳を参考にすること
B18: ２.積算内訳の欄には，当該経費に係る額の算出についての積算の内訳の概要を詳細に記載すること。
B19: ３.使途の欄には、必要に応じて、当該積算内訳についての使途の内容を記載すること。
B20: ４.旅費については、「氏名」、「期間」、「金額」、「行先」、「目的」の分かる一覧表を添付すること。
B21: ５.庁費については、内容に応じて以下の書類を添付すること。
B22: （賃金） ：「氏名」、「勤務日数」、「金額」、「目的」の分かる勤務時間管理簿の写し
B23: 及び雇用契約書・労働条件通知書の写し
B24: （報償費）：「氏名」、「期日」、「金額」、「目的」の分かる一覧表
B25: （委託料）：支出金額の分かる証拠書類（契約書等）
B26: （会場借上）：「期日」、「場所」、「金額」、「目的」の分かる一覧表
B27: ６.支払いを証明する書類（領収書及び送金伝票等）の写しを添付すること。
B28: ７.交付申請額を上段に（ ）書で記載すること。
D36: プロジェクト名： | G36: =別記様式第1!D13 -> 0

Sheet 実績別紙5 
I1: 別紙５
B2: 年度別事業計画内訳書
I3: （単位：千円）
B4: 事業区分 | C4: 年度計画 | D4: 全体計画 | E4: 令和６年度 （実績） | F4: 令和７年度 （実績） | G4: 令和８年度 (実績） | H4: 令和９年度 | I4: 令和10年度以降
B5: 建築設計費 | C5: 事業費 | D5: =SUM(E5:I5) -> 0
C6: 補助対象事業費 | D6: =SUM(E6:I6) -> 0
C7: 補助額（国費） | D7: =SUM(E7:I7) -> 0
B8: 建設工事費 | C8: 事業費 | D8: =SUM(E8:I8) -> 0
C9: 補助対象事業費 | D9: =SUM(E9:I9) -> 0
C10: 補助額（国費） | D10: =SUM(E10:I10) -> 0
B11: マネジメントシステム 整備費 | C11: 事業費 | D11: =SUM(E11:I11) -> 0
C12: 補助対象事業費 | D12: =SUM(E12:I12) -> 0
C13: 補助額（国費） | D13: =SUM(E13:I13) -> 0
B14: 技術の検証費 | C14: 事業費 | D14: =SUM(E14:I14) -> 0
C15: 補助対象事業費 | D15: =SUM(E15:I15) -> 0
C16: 補助額（国費） | D16: =SUM(E16:I16) -> 0
B17: 小 計 | C17: 事業費 | D17: =SUM(E17:I17) -> 0 | E17: =E5+E8+E11+E14 -> 0 | F17: =F5+F8+F11+F14 -> 0 | G17: =G5+G8+G11+G14 -> 0 | H17: =H5+H8+H11+H14 -> 0 | I17: =I5+I8+I11+I14 -> 0
C18: 補助対象事業費 | D18: =SUM(E18:I18) -> 0 | E18: =E6+E9+E12+E15 -> 0 | F18: =F6+F9+F12+F15 -> 0 | G18: =G6+G9+G12+G15 -> 0 | H18: =H6+H9+H12+H15 -> 0 | I18: =I6+I9+I12+I15 -> 0
C19: 補助額（国費） | D19: =SUM(E19:I19) -> 0 | E19: =E7+E10+E13+E16 -> 0 | F19: =F7+F10+F13+F16 -> 0 | G19: =G7+G10+G13+G16 -> 0 | H19: =H7+H10+H13+H16 -> 0 | I19: =I7+I10+I13+I16 -> 0
B20: 附帯事務費(小計×2.2%以内) | C20: 補助額（国費） | D20: =SUM(E20:I20) -> 0
B21: 合 計 | C21: 事業費 | D21: =SUM(E21:I21) -> 0 | E21: =E17 -> 0 | F21: =F17 -> 0 | G21: =G17 -> 0 | H21: =H17 -> 0 | I21: =I17 -> 0
C22: 補助対象事業費 | D22: =SUM(E22:I22) -> 0 | E22: =E18 -> 0 | F22: =F18 -> 0 | G22: =G18 -> 0 | H22: =H18 -> 0 | I22: =I18 -> 0
C23: 補助額（国費） | D23: =SUM(E23:I23) -> 0 | E23: =E19+E20 -> 0 | F23: =F19+F20 -> 0 | G23: =G19+G20 -> 0 | H23: =H19+H20 -> 0 | I23: =I19+I20 -> 0
B24: 採択額（国費）
H25: の欄に記載してください。
B26: ﾌﾟﾛｼﾞｪｸﾄの完了年月 ※1 | D26: 令和 年 月 | E26: ※1 採択されたプロジェクトが完了する年月を記載してください。
B27: 補助事業の最終年度 ※2 | D27: 令和 年度 | E27: ※2 補助対象となった事業項目が終了する年度を記載してください（補助金受領の最終年度）。
B28: 許認可の取得予定年月 ※3 | D28: 令和 年 月 | E28: ※3 その開設に際し許認可を必要とする施設に係る建設工事が補助事業に含まれる場合は、
E29: 当該許認可を取得する予定の年月を記載してください。
B30: 注）
B31: １．各年度とも事業費は３月末までの出来高に基づいて記載してください。
B32: 補助対象事業費および補助額は交付申請する予定の年度の欄に記載してください。 | G32: 提案者名：
B33: ２．各項目の補助額（国費）については補助対象事業費の1/2の金額を記載してください（千円未満は切り捨て）。
B34: ３．附帯事務費は、各年度における小計補助額（国費）の2.2%以内の金額を記載してください（千円未満は切り捨て）。 | G34: プロジェクト名：
B35: ４．額が確定していない場合は、現時点での見通しで記載してください。
B36: ５．採択額（国費）の欄には、採択通知書に記載されている額を記載してください。 | G36: 提案採択時期： | H36: 令和 年度 第 回
B37: なお、全体計画の合計補助額は採択額（国費）以内でなければなりません。

Sheet 実績別紙６
O1: 別紙６
H2: 残 存 物 件 調 書
B4: 取得 事業 年度 | C4: 事業 区分 | D4: 品目 | E4: 商標 型式 製造 番号等 | F4: 単位 | G4: 員数 | H4: 単価 | I4: 取得 価格 | J4: 取得 年月日 | K4: 経過 年数 | L4: 耐用 年数 | M4: 残存 価格率 | N4: 残存 価格 | O4: 備考
B11: （記載上の注意）
B12: １．当該年度取得分と過年度より引継ぎ使用分に分けて記載すること。
B13: ２．備品で，かつ耐用年数の満了していないものを記載すること。 | J13: プロジェクト名： | L13: =別記様式第1!D13 -> 0
B14: ３．単独費用（補助対象外）で取得したものは記載を要しない。
B15: ４．事業区分欄には，取得に係る事業名を記載すること。

Sheet 実績別添3-1
A1: 別添３－１
A2: 建築士による提案内容への適合確認書 | U2: 注意点 1.出力は「白黒」でお願いします。 2.交付決定通知後に実績報告書（実績中間報告書）を提出することができます。 補助対象事業完了後、１ヶ月以内に実績報告書（実績中間報告書）を提出していただきます。所在地の異なる複数の建物である場合は完成順に棟数をまとめて提出して下さい。
A4: 当該報告に係る建築物の整備内容と交付申請書に記載されている建築物の設計内容との適合状況は、次のとおりであることを証明する。
A6: 令和 年 月 日
Q7: 建築士 登録 号
J8: 建築士の氏名
A9: ※建築士は本内容について責任を持つものとする。不正があった場合は、建築士法にもとづき処分を行う場合があることに留意すること。
A10: １．建築物の基本事項
A11: プロジェクト名 | C11: =別記様式第1!D13 -> 0
A12: 建築物の名称
A13: 所在地
A14: 用途 （該当するものを「■」） | C14: □ | D14: 集合住宅 | F14: □ | G14: 請負戸建住宅 | J14: □ | K14: 建売戸建住宅 | N14: □ | O14: その他（ ） | S14: ■
A15: 構造・工法 （該当するものを「■」） | C15: □ | D15: 木造 | E15: □ | F15: 鉄骨造 | H15: □ | I15: ＲＣ造 | K15: □ | L15: ＳＲＣ造 | N15: □ | O15: その他（ ） | S15: □
A16: 延べ面積・階数 | C16: 延べ面積 | F16: ： | I16: ㎡ | J16: ・ | K16: 地上 | M16: 階 | O16: 地下 | Q16: 階
A18: 他の補助金申請 （該当するものを「■」） | C18: □ | D18: 無 | E18: □ | F18: 有 | G18: （補助金名： ） | N18: □ | O18: 国費 | P18: □ | Q18: 国費外
A19: (注)「プロジェクト名」欄には、提案申請書様式１に記載してある「プロジェクト名」を記載すること。
A21: ２．申請者等の概要
A22: 申請者 | C22: 氏名又は名称
C23: 住所
A24: 建築主 | C24: 氏名又は名称
C25: 住所

Sheet 実績別添3-1.3 
E1: 建築物の名称： | G1: ='実績別添3-1'!C12 -> 0
A3: ３．計画の変更等 及び 提案内容への適合状況
A4: （１）交付申請時からの設計変更の有無 | H4: - | J4: 有 | L4: 注意点 1.出力は「白黒」でお願いします。 2.交付申請時に提出した「3.先導的な提案内容への適合状況」を住戸毎に添付して下さい。
A5: （２）交付申請書に記載した環境効率の評価結果、省エネルギー 基準、及び先導的な提案内容に関する変更の有無 | H5: - | J5: 無
A6: (注) 少なくとも、建築基準法第６条第１項に定める「建築物の計画変更の内容」及び完了検査申請書「確認以降の軽微な変更の概要」欄に記載した事項がある場合は、（１）については「有」とすること。 | J6: -
A9: 上記（２）で「有」を選択した場合、次の内容を記載すること。
A10: 関連する提案内容 | D10: 変更の概要 | G10: 当該変更の内容が提案内容への適合状況に影響を与えないと判断した理由
A26: (注) 「関連する提案内容」欄には、環境効率の評価結果、省エネルギー基準、及び先導的な提案内容の別を記載し、先導的な提案内容については、提案申請書に記載した内容のうち該当するものを記載すること。欄は適宜追加すること。

Sheet 実績別添3-2
A1: 別添３－２
A2: 提案内容への適合確認書 | U2: 注意点 1.出力は「白黒」でお願いします。 2.交付決定通知後に実績報告書（実績中間報告書）を提出することができます。 補助対象事業完了後、１ヶ月以内に実績報告書（実績中間報告書）を提出していただきます。所在地の異なる複数の建物である場合は完成順に棟数をまとめて提出して下さい。
A3: (マネジメント及び技術の検証の場合）
A4: 当該報告に係る建築物の整備内容、事業実施内容と交付申請書に記載されている建築物の設計内容、事業実施内容との適合状況は、次のとおりである。
A7: １．建築物の基本事項
A8: プロジェクト名 | C8: =別記様式第1!D13 -> 0
A9: 建築物の名称
A10: 所在地
A11: 用途 （該当するものを「■」） | C11: □ | D11: 集合住宅 | F11: □ | G11: 請負戸建住宅 | J11: □ | K11: 建売戸建住宅 | N11: □ | O11: その他（ ） | S11: ■
A12: 構造・工法 （該当するものを「■」） | C12: □ | D12: 木造 | E12: □ | F12: 鉄骨造 | H12: □ | I12: ＲＣ造 | K12: □ | L12: ＳＲＣ造 | N12: □ | O12: その他（ ） | S12: □
A13: 延べ面積・階数 | C13: 延べ面積 | F13: ： | I13: ㎡ | J13: ・ | K13: 地上 | M13: 階 | O13: 地下 | Q13: 階
A15: 他の補助金申請 （該当するものを「■」） | C15: □ | D15: 無 | E15: □ | F15: 有 | G15: （補助金名： ） | N15: □ | O15: 国費 | P15: □ | Q15: 国費外
A16: (注)「プロジェクト名」欄には、提案申請書様式１に記載してある「プロジェクト名」を記載すること。
A18: ２．申請者等の概要
A19: 申請者 | C19: 氏名又は名称
C20: 住所
A21: 建築主 | C21: 氏名又は名称
C22: 住所
A23: マネジメントの実施者 | C23: 氏名又は名称
C24: 住所
A25: 技術の検証の実施者 | C25: 氏名又は名称
C26: 住所
A27: (注)該当する欄のみ記載すること。

Sheet 実績別添3-2、3
E1: 建築物の名称： | G1: ='実績別添3-2'!C9:R9 -> 0
A3: ３．計画の変更等 及び 提案内容への適合状況
A4: （１）交付申請時からの設計変更の有無 | H4: - | J4: 有 | L4: 注意点 1.出力は「白黒」でお願いします。 2.交付申請時に提出した「3.先導的な提案内容への適合状況」を住戸毎に添付して下さい。
A5: （２）交付申請書に記載した環境効率の評価結果、省エネルギー 基準、及び先導的な提案内容に関する変更の有無 | H5: - | J5: 無
A6: (注) 少なくとも、建築基準法第６条第１項に定める「建築物の計画変更の内容」及び完了検査申請書「確認以降の軽微な変更の概要」欄に記載した事項がある場合は、（１）については「有」とすること。 | J6: -
A9: 上記（２）で「有」を選択した場合、次の内容を記載すること。
A10: 関連する提案内容 | D10: 変更の概要 | G10: 当該変更の内容が提案内容への適合状況に影響を与えないと判断した理由
A26: (注) 「関連する提案内容」欄には、環境効率の評価結果、省エネルギー基準、及び先導的な提案内容の別を記載し、先導的な提案内容については、提案申請書に記載した内容のうち該当するものを記載すること。欄は適宜追加すること。

Sheet 別記様式第12
P1: 別記様式第１２
A5: 請 求 書
C10: 請求額 | D10: 金 | M10: 円
B14: ただし、令和 年 月 日付、ＫＫＪR08発第 号で交付決定のあった令和8年度サステナブル建築物等先導事業（LCCO2評価先導型）に係る国庫補助金として、上記の金額を請求いたします。
J19: 令和 年 月 日
A21: 一般社団法人 環境共生まちづくり協会
A22: 会長 竹中 宣雄 殿
I24: 請求者 住所
I26: 氏名又は名称
I28: 代表者の職名・氏名
C30: ＜ 振込先 ＞
C31: 銀 行
C32: 銀行コード
C34: 支 店 名
C35: 支店コード
C37: 口座名義
C38: (カタカナ名）
C41: 預金種別
C42: 口座番号

Sheet 補助対象事業費
B1: 戸建住宅の住戸毎に作成して下さい。提案内容（事業者毎）該当するように、適宜変更して下さい。
C2: 補助対象事業費確認書 | O2: 作成要領 （補助対象事業費確認書）
C4: 住宅の名称 | E4: =交付別添2!C12 -> 0 | I4: 住宅のタイプ
O5: ① | P5: 黄色 | Q5: 部分を入力して下さい。
O6: ② | P6: 金額は全て円単位で入力して下さい。
C7: ※金額は全て消費税を除いて下さい。 | K7: 単位：円 | L7: 単位：千円 | O7: ③ | P7: 添付資料は該当する箇所を明記（マーカーなど）して下さい。
C8: 総請負金額 | D8: 請負に関する全ての金額の合計（税抜） | K8: 24900000 | L8: =ROUNDDOWN(K8,-3) -> 24900000 | O8: ④ | P8: 「住宅のタイプ」は該当する事業者のみ記入して下さい。
O9: ⑤ | P9: 補助対象事業費が明確にできる資料を作成している場合は「補助対象事業費確認書」は不要です。あくまでも参考例ですので該当しない場合、同等の様式を作成し提出して下さい。
C10: 設計費
D11: 設計費事業費 | K11: 600000 | L11: =ROUNDDOWN(K11,-3) -> 600000 | O11: ⑥ | P11: 出力は「白黒」でお願いします。
D12: 補助対象項目 | I12: 添付資料№ | K12: 金額 | O12: ⑦ | P12: 住戸毎 に作成して下さい
D13: 1 | E13: CASBEE評価費用 | K13: 500000
D14: 2 | E14: CASBEE申請費 | K14: 50000
D15: 補助対象事業費計 | J15: ① | K15: =SUM(K13:K14) -> 550000 | L15: =ROUNDDOWN(K15,-3) -> 550000 | O15: 各項目の留意点
D16: 補助対象外事業費 | K16: =K11-K15 -> 50000 | L16: =ROUNDDOWN(K16,-3) -> 50000 | O16: 【総請負金額】
D17: （内 他の補助金額： | H17: 0千円 | J17: ） | O17: ① | P17: 本契約、追加変更契約、追加見込み見積書などの合計金額を記入して下さい。
D18: 補助率1/2 | J18: ①×1/2 | K18: =ROUNDDOWN(K15*0.5,0) -> 275000 | O18: 【事業費】
K19: =ROUNDDOWN(K18,-3) -> 275000
D20: 補助額 （1戸当たり上限額： | H20: 240000 | J20: ） | L20: =IF(H20>K18,K19,IF(H20<K18,H20)) -> 240000 | O20: ① | P20: 補助対象項目は「材工」の合計を記入して下さい。 （採択内容による）
C21: 建設工事費 | O21: 【補助金申請額】
D22: 建設工事費事業費 | K22: =K8-K11 -> 24300000 | L22: =ROUNDDOWN(K22,-3) -> 24300000 | O22: ① | P22: 採択金額÷採択戸数≒戸当たり上限額 採択金額を採択戸数で割り、１戸当たりの金額を設定して下さい。 （※最高は200万円）
D23: 補助対象項目 | I23: 添付資料№ | K23: 金額
D24: 1 | E24: 断熱材工事費・材料費 | K24: 2500000 | O24: ② | P24: 採択金額を上回ることはできません。
D25: 2 | E25: サッシ工事費・材料費 | K25: 3000000 | O25: ③ | P25: 採択戸数は達成して下さい。
D26: 3
D27: 4
D28: 5
D29: 6
D30: 補助対象事業費計 | J30: ② | K30: =SUM(K24:K29) -> 5500000 | L30: =ROUNDDOWN(K30,-3) -> 5500000
D31: 補助対象外事業費 | K31: =K22-K30 -> 18800000 | L31: =L22-L30 -> 18800000
D32: （内 他の補助金額： | H32: 0千円 | J32: ）
D33: 補助率1/2 | J33: ②×1/2 | K33: =ROUNDDOWN(K30*0.5,0) -> 2750000
K34: =ROUNDDOWN(K33,-3) -> 2750000
D35: 補助額 （1戸当たり上限額： | H35: 2500000 | J35: ） | L35: =IF(H35>=K33,K34,IF(H35<K33,H35)) -> 2500000
C37: 補助金申請額 | D37: （1戸当たり上限額： | H37: =SUM(H20,H35) -> 2740000 | J37: ） | L37: =SUM(L20,L35) -> 2740000

Sheet 住戸毎の個別明細 
A1: 住戸毎の個別明細（別紙２の添付資料） | J1: 単位：千円
A2: № | B2: 住宅の名称 | C2: 建築設計費 | F2: 建設工事費 | I2: 他の補助金 申請額 | J2: 備考
C3: 事業費 | D3: 補助対象事業費 | E3: 補助金申請額 | F3: 事業費 | G3: 補助対象事業費 | H3: 補助金申請額 | M3: 住戸毎の個別明細（別紙２の添付資料）の作成要領
A4: 1 | M4: ① | N4: 「補助対象事業費確認書」などの住戸毎の補助額を確認できる資料をもとに作成して下さい。
A5: 2
A6: 3 | M6: ② | N6: 千円単位で入力して下さい。
A7: 4 | M7: ③ | N7: 用紙のレイアウトは、縦、横適宜変更して下さい。
A8: 5 | M8: ④ | N8: 各申請毎に計を記入し、合計（累計）を記入して下さい
A9: 交付申請 小計 | C9: =SUM(C4:C8) -> 0 | D9: =SUM(D4:D8) -> 0 | E9: =SUM(E4:E8) -> 0 | F9: =SUM(F4:F8) -> 0 | G9: =SUM(G4:G8) -> 0 | H9: =SUM(H4:H8) -> 0 | M9: ⑤ | N9: 住宅タイプ毎に補助金額を設定している場合は[備考]欄に記入、若しくは、項目を追加して明記下さい。
A10: 6
A11: 7 | M11: ⑥ | N11: 欄は適宜、修正して下さい
A12: 8
A13: 9
A14: 10
A15: 第１回交付変更申請 小計 | C15: =SUM(C10:C14) -> 0 | D15: =SUM(D10:D14) -> 0 | E15: =SUM(E10:E14) -> 0 | F15: =SUM(F10:F14) -> 0 | G15: =SUM(G10:G14) -> 0 | H15: =SUM(H10:H14) -> 0
A16: 11
A17: 12
A18: 13
A19: 14
A20: 15
A21: 第２回交付変更申請 小計 | C21: =SUM(C16:C20) -> 0 | D21: =SUM(D16:D20) -> 0 | E21: =SUM(E16:E20) -> 0 | F21: =SUM(F16:F20) -> 0 | G21: =SUM(G16:G20) -> 0 | H21: =SUM(H16:H20) -> 0
A22: 16
A23: 17
A24: 18
A25: 19
A26: 20
A27: 第３回交付変更申請 小計 | C27: =SUM(C22:C26) -> 0 | D27: =SUM(D22:D26) -> 0 | E27: =SUM(E22:E26) -> 0 | F27: =SUM(F22:F26) -> 0 | G27: =SUM(G22:G26) -> 0 | H27: =SUM(H22:H26) -> 0
A28: 16
A29: 17
A30: 18
A31: 19
A32: 20
A33: 第４回交付変更申請 小計 | C33: =SUM(C28:C32) -> 0 | D33: =SUM(D28:D32) -> 0 | E33: =SUM(E28:E32) -> 0 | F33: =SUM(F28:F32) -> 0 | G33: =SUM(G28:G32) -> 0 | H33: =SUM(H28:H32) -> 0
A34: 16
A35: 17
A36: 18
A37: 19
A38: 20
A39: 第５回交付変更申請 小計 | C39: =SUM(C34:C38) -> 0 | D39: =SUM(D34:D38) -> 0 | E39: =SUM(E34:E38) -> 0 | F39: =SUM(F34:F38) -> 0 | G39: =SUM(G34:G38) -> 0 | H39: =SUM(H34:H38) -> 0
A40: 合計 | C40: =SUM(C9,C15,C21,C27,C33,C39) -> 0 | D40: =SUM(D9,D15,D21,D27,D33,D39) -> 0 | E40: =SUM(E9,E15,E21,E27,E33,E39) -> 0 | F40: =SUM(F9,F15,F21,F27,F33,F39) -> 0 | G40: =SUM(G9,G15,G21,G27,G33,G39) -> 0 | H40: =SUM(H9,H15,H21,H27,H33,H39) -> 0

Sheet 住戸毎の完了予定一覧
A1: 住戸毎の完了予定一覧表
A2: No | B2: 住宅の名称 | C2: 物件の所在地 | D2: 階数 | E2: 延べ面積（㎡） | F2: 工事管理責任者の氏名 | G2: 補助対象項目の着手予定日 | H2: 補助対象項目の完了予定日 | I2: 交付決定日
A3: 1 | E3: 0 | G3: 00.00.00 | H3: 00.00.00 | I3: 00.00.00 | L3: 住戸毎の完了予定一覧表の作成要領
A4: 2
A5: 3 | L5: ① | M5: 申請に添付する際、各予定日は随時、更新をして下さい。
A6: 4 | L6: ② | M6: 必要に応じて管轄支店や地域などの項目を追加して下さい。
A7: 5 | L7: ③ | M7: 用紙のレイアウトは、縦、横適宜変更して下さい。
A8: 6
A9: 7
A10: 8
A11: 9
A12: 10
A13: 11
A14: 12
A15: 13
A16: 14
A17: 15
A18: 16
A19: 17
... A42: 40

Sheet 共同事業実施規約
P1: 【参考様式】
A3: サステナブル建築物等先導事業（LCCO2評価先導型）補助金における共同事業実施規約
A4: （プロジェクト名）
A5: 甲：建築主
A6: 乙：共同事業者
B8: （補助金交付への協力）
B9: 第１条 甲と乙は、本規約によって建築する建物（以下「本建物」という）が、国土交通省（以下
B10: 「所轄官庁」という）所轄のサステナブル建築物等先導事業（LCCO2評価先導型）補助金（以下
B11: 「本補助金」という）の交付要件を満たすことを前提に設計された建物であり、本補助金の交付を
B12: 受けるための所要の手続を、両者協力して共同で行うことを確認する。
B14: （交付申請）
B15: 第２条 甲と乙は、本規約締結後すみやかに、本建物に関する本補助金○○○万円の交付申請（以下
B16: 「本申請」という）を共同して行う。
B17: 2．本補助金の申請から受領に要する諸手続については、甲及び乙を代表して乙が行うものとする。
B18: なお、本補助金の受領に必要な書類（支払い実績を証明する書類を含む）は甲及び乙が協力して整理し、
B19: 補助金受領後は乙が代表して管理する。
B20: 3．甲と乙は、過去３カ年度内に国土交通省住宅局所管補助金において、交付決定の取り消しに相当する
... B65: 交換し、貸付し、担保に供し、または取壊しすることができないことを確認する。
O67: 日付
P69: 甲：住所、署名および捺印
P71: 乙：住所、署名および捺印

Sheet 分譲住宅に係る誓約書
A2: サステナブル建築物等先導事業費補助金（LCCO2評価先導型）分譲住宅に係る誓約書
C3: 令和 年 月 日
B4: 補助事業者 | C4: 住所
B5: （住宅の販売を行う者） | C5: 名称
C6: 代表者
A8: 令和8年度サステナブル建築物等先導事業（以下、「本事業」という。）に対する補助金（以下、「本補助金」という。）の交付を受けるため、本誓約書の内容に従って補助事業を実施するものとして、届け出ます。
A10: （要件等の確認）
A11: 第１条 以下の(ｲ)から(ﾆ)の事項について了解した上で補助金交付申請を行います。 (ｲ) 本補助金の補助対象となる工事について、国費が充当された他の補助金との併用は行わないこと（他の補 助金の交付対象部分を除く部分は、この限りではない） (ﾛ) 本補助金を受けた住宅（以下、「住宅」という。）について善良な管理者の注意をもって管理し、補助金の 交付の目的に従って、その効率的な運用を行わなければならないこと (ﾊ) 事業完了から１０年間、国土交通省の承認なく、補助金の交付の目的に反して使用し、譲渡し、交換 し、貸し付け、担保に供し、または取り壊してはならないこと（補助事業者である住宅販売業者や住宅所有 者等が、本補助金の交付を受けた住宅を、住宅として販売し、譲渡し、交換し、貸し付け、または担保に供 する場合を除く） (ﾆ) 提出した個人情報は、本事業に係る補助金の交付を受けた年度終了後５年間保存され、国、地方公共団体 および国の他の補助事業の事務事業者からの国庫補助事業実施上の要請に基づき、これらの機関に提供さ れることがあり、また当該個人情報に係る個人特性を統計的に処理したデータが公表されることがあるこ と (ﾎ) 住宅購入者に対し、募集にかかる要件や協力事項を伝えた上で、補助事業完了後、３年間について、 補助事業者及び住宅購入者、両者協力して所定のエネルギー使用量の実績値についての報告を共同で 行うこと。なお、エネルギー使用量の報告は、補助事業者が住宅購入者から報告に必要な情報を入手 し、補助事業者が代表して行うものとする。 両者は、本補助金の趣旨を踏まえ、普及啓発のために求められるシンポジウムの参画、事後のアン ケートやヒアリングなどに共同で協力する。
A12: （補助金の還元）
A13: 第２条 申請者は受領した当該補助金相当額について、当該補助事業の対象住宅の購入者に還元します。 ２ 前項の住宅購入者は、第１条(ロ)から(ニ)の事項を了解し、申請者より補助金が還元される旨を説明された者とします。

Sheet 建築主リスト 
B2: 令和８年度 | D2: サステナブル建築物等先導事業（LCCO2評価先導型） | L2: 建築主リスト
C4: 代表提案者名 | L4: 採択棟数 | P4: 棟 | Q4: 戸
C5: プロジェクト名 | L5: 実績報告棟数 | O5: 過年度計 | P5: 棟 | Q5: 戸
O6: 令和8年度 | P6: 棟 | Q6: 戸 | W6: 作成日
C7: 提案採択時期（年度-回） | H7: 例） R3-1 | L7: 令和9年度以降申請予定 | P7: 棟 | Q7: 戸
B9: № | C9: 交付 決定日 | D9: 事業費 （千円） | E9: 交付額 （千円） | F9: 実績額 （千円） | G9: 竣工日 | H9: 建築設計費 | L9: 建設工事費 | P9: 事業者名 | Q9: 建築主 | R9: 建築主のﾌﾘｶﾞﾅ | S9: 郵便番号 | T9: 所在地 | W9: 備考 | X9: 一次エネルギー消費性能（BEI） | Y9: UA [Ｗ／㎡・Ｋ] | Z9: ηAc
H10: 事業費 （千円） | I10: 補助対象事業費（千円） | J10: 補助額（千円） | L10: 事業費 （千円） | M10: 補助対象事業費（千円） | N10: 補助額（千円） | T10: 住所１ 都道府県 | U10: 住所２ 市区町村 | V10: 住所３ ※住居表示を記入してください。
J11: 交付額 | K11: 実績額 | N11: 交付額 | O11: 実績額
B13: 記入例 | C13: 45017 | D13: =H13+L13 -> 30400 | E13: =J13+N13 -> 2000 | F13: =K13+O13 -> 1900 | G13: 45199 | H13: 400 | I13: 400 | J13: 200 | K13: 200 | L13: 30000 | M13: 4000 | N13: 1800 | O13: 1700 | P13: ○○工務店（株） | Q13: 環境 共生 | R13: ｶﾝｷｮｳ ﾄﾓｵ | S13: 102-0071 | T13: 東京都 | U13: 千代田区 | V13: 富士見2-7-2 | W13: 建売で売買済の場合 申請時の建物名称を記入してください | X13: 0.58 | Y13: 0.46 | Z13: 1.3
C14: 45087 | D14: =H14+L14 -> 40400 | E14: =J14+N14 -> 1700 | F14: =K14+O14 -> 1670 | G14: 45322 | H14: 400 | I14: 400 | J14: 200 | K14: 200 | L14: 40000 | M14: 3000 | N14: 1500 | O14: 1470 | P14: （株）○○建設 | Q14: 建売A棟住宅 | R14: 半角 | V14: ・数字は半角 ・丁-番地-号の間はハイフンを用いて記載
D15: 入力不要（自動計算） | Q15: 姓名の間は１文字あける
B16: 1 | D16: =H16+L16 -> 0 | E16: =J16+N16 -> 0 | F16: =K16+O16 -> 0
B17: 2 | D17: =H17+L17 -> 0 | E17: =J17+N17 -> 0 | F17: =K17+O17 -> 0
B18: 3 | D18: =H18+L18 -> 0 | E18: =J18+N18 -> 0 | F18: =K18+O18 -> 0
B19: 4 | D19: =H19+L19 -> 0 | E19: =J19+N19 -> 0 | F19: =K19+O19 -> 0
B20: 5 | D20: =H20+L20 -> 0 | E20: =J20+N20 -> 0 | F20: =K20+O20 -> 0
B21: 6 | D21: =H21+L21 -> 0 | E21: =J21+N21 -> 0 | F21: =K21+O21 -> 0
B22: 7 | D22: =H22+L22 -> 0 | E22: =J22+N22 -> 0 | F22: =K22+O22 -> 0
B23: 8 | D23: =H23+L23 -> 0 | E23: =J23+N23 -> 0 | F23: =K23+O23 -> 0
B24: 9 | D24: =H24+L24 -> 0 | E24: =J24+N24 -> 0 | F24: =K24+O24 -> 0
B25: 10 | D25: =H25+L25 -> 0 | E25: =J25+N25 -> 0 | F25: =K25+O25 -> 0
B26: 11 | D26: =H26+L26 -> 0 | E26: =J26+N26 -> 0 | F26: =K26+O26 -> 0
B27: 12 | D27: =H27+L27 -> 0 | E27: =J27+N27 -> 0 | F27: =K27+O27 -> 0
... B65: 50 | D65: =H65+L65 -> 0 | E65: =J65+N65 -> 0 | F65: =K65+O65 -> 0
B66: 合計 | D66: =SUM(D16:D65) -> 0 | E66: =SUM(E16:E65) -> 0 | F66: =SUM(F16:F65) -> 0 | H66: =SUM(H16:H65) -> 0 | I66: =SUM(I16:I65) -> 0 | J66: =SUM(J16:J65) -> 0 | K66: =SUM(K16:K65) -> 0 | L66: =SUM(L16:L65) -> 0 | M66: =SUM(M16:M65) -> 0 | N66: =SUM(N16:N65) -> 0 | O66: =SUM(O16:O65) -> 0
